{"text_format":"1","workbook":"xlsx","n_sheets":7,"sheets":["出場資格者名簿","①個人種目参加調査・団体組手申込（表紙）","②参加調査（個人種目　形）","③参加調査（個人種目　組手）","④参加申込書（団体組手）","⑤参加申込書（団体形）","振込み証"],"not_rendered":{"charts":0,"images":0,"macros":1,"external_links":1,"defined_names":15,"comments":2,"pivot_tables":0},"unopened":[],"bounds":{"document_bytes":16777216,"sheet_cells":100000,"rows_first":2000,"rows_last":500,"rows_between":2000,"halvings":0,"cell_chars":16384,"cell_head_chars":4096},"cells_cut":0,"cells_raw":0,"read":"whole","date_system":"1900"}

{"sheet":"出場資格者名簿","index":0,"n_rows":146,"n_cols":6,"rows_kept":146,"cut":false,"hidden":false,"merged":[]}
["【男子】"]
["種目","学年","番号",null,"名　前","県"]
["男子形","1年",1,{"$f":"A3&B3&C3","v":"男子形1年1"},"石川 琉之助","沖縄県"]
["男子形","1年",2,{"$f":"A4&B4&C4","v":"男子形1年2"},"市村 全","福岡県"]
["男子形","1年",3,"男子形1年3","井之上 蒼空","宮崎県"]
["男子形","1年",4,"男子形1年4","国分 エイト","福岡県"]
["男子形","1年",5,"男子形1年5","砂岡 志紀","熊本県"]
["男子形","1年",6,"男子形1年6","田中 柊","福岡県"]
["男子形","2年",1,"男子形2年1","石原 健誠","沖縄県"]
["男子形","2年",2,"男子形2年2","八頭司 絆正","福岡県"]
["男子形","2年",3,"男子形2年3","平 咲来","福岡県"]
["男子形","2年",4,"男子形2年4","大場 善志朗","福岡県"]
["男子形","2年",5,"男子形2年5","国分 ユウ","福岡県"]
["男子形","2年",6,"男子形2年6","西 丈汰","福岡県"]
["男子形","3年",1,"男子形3年1","市村 丞","福岡県"]
["男子形","3年",2,"男子形3年2","大城 清和","沖縄県"]
["男子形","3年",3,"男子形3年3","新城 光琉","沖縄県"]
["男子形","3年",4,"男子形3年4","信國 晴輝","福岡県"]
["男子形","3年",5,"男子形3年5","園田 晟士","福岡県"]
["男子形","3年",6,"男子形3年6","森 葵志也","福岡県"]
["男子形","4年",1,"男子形4年1","新里 彪磨","沖縄県"]
["男子形","4年",2,"男子形4年2","東條 泰介","福岡県"]
["男子形","4年",3,"男子形4年3","西園 太智","沖縄県"]
["男子形","4年",4,"男子形4年4","石川 新汰","沖縄県"]
["男子形","4年",5,"男子形4年5","小川 颯介","福岡県"]
["男子形","4年",6,"男子形4年6","堤 郁登","長崎県"]
["男子形","5年",1,"男子形5年1","原 悠斗","福岡県"]
["男子形","5年",2,"男子形5年2","黒岩 優太","沖縄県"]
["男子形","5年",3,"男子形5年3","宇根 蒼太","沖縄県"]
["男子形","5年",4,"男子形5年4","前田 龍二","福岡県"]
["男子形","5年",5,"男子形5年5","前田 究士朗","沖縄県"]
["男子形","5年",6,"男子形5年6","波多野 和司","沖縄県"]
["男子形","6年",1,"男子形6年1","東江 晃生","沖縄県"]
["男子形","6年",2,"男子形6年2","新城 佑賢","沖縄県"]
["男子形","6年",3,"男子形6年3","山根 王輝","福岡県"]
["男子形","6年",4,"男子形6年4","山中 隆太","沖縄県"]
["男子形","6年",5,"男子形6年5","宜志富 琉希","沖縄県"]
["男子形","6年",6,"男子形6年6","田中 令旺真","福岡県"]
["男子組手","1年",1,"男子組手1年1","荒木 心羽","長崎県"]
["男子組手","1年",2,"男子組手1年2","林田 陸叶","熊本県"]
["男子組手","1年",3,"男子組手1年3","橋口 雅久","宮崎県"]
["男子組手","1年",4,"男子組手1年4","安岡 侑里","鹿児島県"]
["男子組手","1年",5,"男子組手1年5","林 竜平","佐賀県"]
["男子組手","1年",6,"男子組手1年6","末永 尚","長崎県"]
["男子組手","2年",1,"男子組手2年1","八頭司 絆正","福岡県"]
["男子組手","2年",2,"男子組手2年2","岩口 桂己","長崎県"]
["男子組手","2年",3,"男子組手2年3","栁 新多","長崎県"]
["男子組手","2年",4,"男子組手2年4","重松 旺佑","佐賀県"]
["男子組手","2年",5,"男子組手2年5","小西 昊芯","長崎県"]
["男子組手","2年",6,"男子組手2年6","平 咲来","福岡県"]
["男子組手","3年",1,"男子組手3年1","森 葵志也","福岡県"]
["男子組手","3年",2,"男子組手3年2","富岡 翔空","熊本県"]
["男子組手","3年",3,"男子組手3年3","濵名 晃大","熊本県"]
["男子組手","3年",4,"男子組手3年4","小野 湊真","佐賀県"]
["男子組手","3年",5,"男子組手3年5","丸谷 太人","大分県"]
["男子組手","3年",6,"男子組手3年6","永井 輝","福岡県"]
["男子組手","4年",1,"男子組手4年1","川畑 天輝","宮崎県"]
["男子組手","4年",2,"男子組手4年2","小栁 光生","佐賀県"]
["男子組手","4年",3,"男子組手4年3","東條 泰介","福岡県"]
["男子組手","4年",4,"男子組手4年4","沼田 虎司","熊本県"]
["男子組手","4年",5,"男子組手4年5","川上 寧紀","沖縄県"]
["男子組手","4年",6,"男子組手4年6","森 蓮志","福岡県"]
["男子組手","5年",1,"男子組手5年1","林 海璃","長崎県"]
["男子組手","5年",2,"男子組手5年2","中村 匠見","福岡県"]
["男子組手","5年",3,"男子組手5年3","高松 英留","宮崎県"]
["男子組手","5年",4,"男子組手5年4","川路 幸和","宮崎県"]
["男子組手","5年",5,"男子組手5年5","佐藤 龍希","大分県"]
["男子組手","5年",6,{"$f":"A68&B68&C68","v":"男子組手5年6"},"古梶 景大","大分県"]
["男子組手","6年",1,"男子組手6年1","伊東 舜太朗","大分県"]
["男子組手","6年",2,"男子組手6年2","椎葉 友喜","熊本県"]
["男子組手","6年",3,"男子組手6年3","吉田 琉唯","福岡県"]
["男子組手","6年",4,"男子組手6年4","宜志富 琉希","沖縄県"]
["男子組手","6年",5,"男子組手6年5","川畑 翔也","宮崎県"]
["男子組手","6年",6,"男子組手6年6","寺田 結登","大分県"]
["女子形","1年",1,{"$f":"A75&B75&C75","v":"女子形1年1"},"木下 陽茉莉","福岡県"]
["女子形","1年",2,{"$f":"A76&B76&C76","v":"女子形1年2"},"奥村 心葉","福岡県"]
["女子形","1年",3,"女子形1年3","井浦 陽夏梨","福岡県"]
["女子形","1年",4,"女子形1年4","玉城 ひかり","沖縄県"]
["女子形","1年",5,"女子形1年5","小原 璃瑚","長崎県"]
["女子形","1年",6,"女子形1年6","山口 心蘭","長崎県"]
["女子形","2年",1,"女子形2年1","東條 凛月","福岡県"]
["女子形","2年",2,"女子形2年2","板橋 渚","沖縄県"]
["女子形","2年",3,"女子形2年3","宮本 真帆","福岡県"]
["女子形","2年",4,"女子形2年4","福髙 凛々依","福岡県"]
["女子形","2年",5,"女子形2年5","中村 礼","長崎県"]
["女子形","2年",6,"女子形2年6","川田 悠","沖縄県"]
["女子形","3年",1,"女子形3年1","真喜屋 稀衣","沖縄県"]
["女子形","3年",2,"女子形3年2","北野 椛純","福岡県"]
["女子形","3年",3,"女子形3年3","手老 芽花","福岡県"]
["女子形","3年",4,"女子形3年4","野崎 楓華","長崎県"]
["女子形","3年",5,"女子形3年5","平野 仁菜","長崎県"]
["女子形","3年",6,"女子形3年6","岩本 絢央","沖縄県"]
["女子形","4年",1,"女子形4年1","大場 心結","福岡県"]
["女子形","4年",2,"女子形4年2","宮本 そら","福岡県"]
["女子形","4年",3,"女子形4年3","島袋 杏里","沖縄県"]
["女子形","4年",4,"女子形4年4","亀川 唯華","福岡県"]
["女子形","4年",5,"女子形4年5","國吉 姫夏","沖縄県"]
["女子形","4年",6,"女子形4年6","鹿毛 梨華","長崎県"]
["女子形","5年",1,"女子形5年1","仲座 志音","沖縄県"]
["女子形","5年",2,"女子形5年2","吉村 紗愛","長崎県"]
["女子形","5年",3,"女子形5年3","屋富祖 恋乃","沖縄県"]
["女子形","5年",4,"女子形5年4","大塚 生啓","大分県"]
["女子形","5年",5,"女子形5年5","平野 杏珠","長崎県"]
["女子形","5年",6,"女子形5年6","南里 心月","福岡県"]
["女子形","6年",1,"女子形6年1","三浦 そら","沖縄県"]
["女子形","6年",2,"女子形6年2","嶺井 想七","沖縄県"]
["女子形","6年",3,"女子形6年3","島袋 かなさ","沖縄県"]
["女子形","6年",4,"女子形6年4","荒川 叶音","熊本県"]
["女子形","6年",5,"女子形6年5","石原 佳菜紗","沖縄県"]
["女子形","6年",6,"女子形6年6","東大島 玲菜","沖縄県"]
["女子形","1年",1,"女子形1年1","飯村 魅宝史","熊本県"]
["女子組手","1年",2,"女子組手1年2","木下 陽茉莉","福岡県"]
["女子組手","1年",3,"女子組手1年3","田浦 望愛","熊本県"]
["女子組手","1年",4,"女子組手1年4","門脇 心生","長崎県"]
["女子組手","1年",5,"女子組手1年5","高妻 明莉","宮崎県"]
["女子組手","1年",6,"女子組手1年6","小原 璃瑚","長崎県"]
["女子組手","2年",1,"女子組手2年1","市來 凛咲","宮崎県"]
["女子組手","2年",2,"女子組手2年2","久島 碧心","福岡県"]
["女子組手","2年",3,"女子組手2年3","池上 莉子","福岡県"]
["女子組手","2年",4,"女子組手2年4","真保栄 優彩","沖縄県"]
["女子組手","2年",5,"女子組手2年5","小栁 光璃","佐賀県"]
["女子組手","2年",6,"女子組手2年6","瀬戸口 あいら","鹿児島県"]
["女子組手","3年",1,"女子組手3年1","田原 幸来","福岡県"]
["女子組手","3年",2,"女子組手3年2","中園 結衣","福岡県"]
["女子組手","3年",3,"女子組手3年3","伊礼 琉愛","沖縄県"]
["女子組手","3年",4,"女子組手3年4","寺島 希虹","佐賀県"]
["女子組手","3年",5,"女子組手3年5","福田 為耀","大分県"]
["女子組手","3年",6,"女子組手3年6","神宮 陽葵","福岡県"]
["女子組手","4年",1,"女子組手4年1","吉田 結奈","福岡県"]
["女子組手","4年",2,"女子組手4年2","亀川 唯華","福岡県"]
["女子組手","4年",3,"女子組手4年3","橋本 彩加","大分県"]
["女子組手","4年",4,"女子組手4年4","宮本 そら","福岡県"]
["女子組手","4年",5,"女子組手4年5","呉屋 風羽哩","沖縄県"]
["女子組手","4年",6,"女子組手4年6","平田 凜果","沖縄県"]
["女子組手","5年",1,"女子組手5年1","荒木 理愛","宮崎県"]
["女子組手","5年",2,"女子組手5年2","木下 鈴","福岡県"]
["女子組手","5年",3,"女子組手5年3","村田 瑠琉華","鹿児島県"]
["女子組手","5年",4,"女子組手5年4","城田 阿璃実","長崎県"]
["女子組手","5年",5,"女子組手5年5","田㞍 結羽","熊本県"]
["女子組手","5年",6,{"$f":"A140&B140&C140","v":"女子組手5年6"},"鈴木 詩野","宮崎県"]
["女子組手","6年",1,"女子組手6年1","俵 一瑠","福岡県"]
["女子組手","6年",2,"女子組手6年2","藤元 あいみ","宮崎県"]
["女子組手","6年",3,"女子組手6年3","渡邉 愛夢実","宮崎県"]
["女子組手","6年",4,"女子組手6年4","真保栄 結彩","沖縄県"]
["女子組手","6年",5,"女子組手6年5","尾上 瑠希","熊本県"]
["女子組手","6年",6,"女子組手6年6","中川 心優","熊本県"]

{"sheet":"①個人種目参加調査・団体組手申込（表紙）","index":1,"n_rows":49,"n_cols":34,"rows_kept":49,"cut":false,"hidden":false,"merged":[[41,32,42,34],[41,35,42,41],[44,32,45,34],[44,35,45,41],[47,32,48,34],[47,35,48,41],[32,32,33,34],[32,35,33,41],[35,32,36,34],[35,35,36,41],[38,32,39,34],[38,35,39,41],[47,25,48,27],[47,28,48,29],[47,30,48,31],[48,2,48,4],[48,5,48,7],[47,2,47,4],[47,5,47,7],[47,15,48,17],[47,8,47,14],[47,18,48,24],[48,8,48,14],[44,25,45,27],[44,28,45,29],[44,30,45,31],[45,2,45,4],[45,5,45,7],[44,2,44,4],[44,5,44,7],[44,15,45,17],[44,8,44,14],[44,18,45,24],[45,8,45,14],[41,25,42,27],[41,28,42,29],[41,30,42,31],[42,2,42,4],[42,5,42,7],[41,2,41,4],[41,5,41,7],[41,15,42,17],[41,8,41,14],[41,18,42,24],[42,8,42,14],[38,25,39,27],[38,28,39,29],[38,30,39,31],[39,2,39,4],[39,5,39,7],[38,2,38,4],[38,5,38,7],[38,15,39,17],[38,8,38,14],[38,18,39,24],[39,8,39,14],[35,25,36,27],[35,28,36,29],[35,30,36,31],[36,2,36,4],[36,5,36,7],[35,2,35,4],[35,5,35,7],[35,15,36,17],[35,8,35,14],[35,18,36,24],[36,8,36,14],[0,1,0,22],[1,1,1,22],[3,9,4,13],[3,1,4,8],[3,14,4,22],[33,2,33,4],[32,2,32,4],[7,1,7,22],[17,2,17,12],[27,4,27,7],[28,4,28,7],[19,2,19,12],[20,2,20,12],[31,18,31,19],[31,20,31,21],[32,5,32,7],[33,5,33,7],[31,1,31,14],[33,8,33,14],[32,8,32,14],[31,28,31,29],[31,30,31,31],[32,30,33,31],[32,28,33,29],[32,15,33,17],[32,25,33,27],[32,18,33,24]]}
[null,"令和6年度第4回全日本少年少女空手道選抜大会"]
[null,"個人種目参加調査並びに団体組手参加申込書(表紙）"]
[]
[null,"道場名",null,null,null,null,null,null,null,"熊本"]
[]
[]
[null,"令和5年度第3回全日本少年少女空手道選抜大会に下記のとおり参加を申し込みます。"]
[null,"記"]
[null,"(1)申込書類①～⑦は，データファイルもメールにて送りました。"]
[null,null,"①参加申込書（表紙）　本紙",null,null,null,null,null,null,null,null,null,null,null,null,null,null,null,null,null,null,null,null,null,null,null,null,null,null,"福岡"]
[null,"　","②参加申込書（個人種目　形）",null,null,null,null,null,null,null,null,null,null,null,null,null,null,null,null,null,null,null,null,null,null,null,null,null,null,"長崎"]
[null,null,"③参加申込書（個人種目　組手）",null,null,null,null,null,null,null,null,null,null,null,null,null,null,null,null,null,null,null,null,null,null,null,null,null,null,"佐賀"]
[null,null,"④参加申込書（団体種目）",null,null,null,null,null,null,null,null,null,null,null,null,null,null,null,null,null,null,null,null,null,null,null,null,null,null,"熊本"]
[null,null,"⑤プログラム用男子名簿",null,null,null,null,null,null,null,null,null,null,null,null,null,null,null,null,null,null,null,null,null,null,null,null,null,null,"大分"]
[null,null,"⑥プログラム用女子名簿",null,null,null,null,null,null,null,null,null,null,null,null,null,null,null,null,null,null,null,null,null,null,null,null,null,null,"宮崎"]
[null,null,"⑦派遣審判員連絡先",null,null,null,null,null,null,null,null,null,null,null,null,null,null,null,null,null,null,null,null,null,null,null,null,null,null,"鹿児島"]
[null,"◆記載者",null,null,null,null,null,null,null,null,null,null,null,null,null,null,null,null,null,null,null,null,null,null,null,null,null,null,null,"沖縄"]
[null,"氏名フリガナ"]
[null,"氏名"]
[null,"郵便番号",null,null,null,null,null,null,null,null,null,null,null,null,null,null,null,null,null,null,null,null,null,null,null,null,null,null,null,"全国"]
[null,"住所",null,null,null,null,null,null,null,null,null,null,null,null,null,null,null,null,null,null,null,null,null,null,null,null,null,null,null,"地区"]
[null,"自宅ＴＥＬ"]
[null,"自宅ＦＡＸ",null,null,null,null,null,null,null,null,null,null,null,null,null,null,null,null,null,null,null,null,null,null,null,null,null,null,null,"コーチ４"]
[null,"携帯ＴＥＬ",null,null,null,null,null,null,null,null,null,null,null,null,null,null,null,null,null,null,null,null,null,null,null,null,null,null,null,"コーチ３"]
[null,"ﾒｰﾙｱﾄﾞﾚｽ",null,null,null,null,null,null,null,null,null,null,null,null,null,null,null,null,null,null,null,null,null,null,null,null,null,null,null,"コーチ２"]
[null,null,null,null,null,null,null,null,null,null,null,null,null,null,null,null,null,null,null,null,null,null,null,null,null,null,null,null,null,"コーチ１"]
[null,"◆個人戦参加人数"]
[null,"参加選手　人数（形）",null,null,{"$f":"COUNTIF('②参加調査（個人種目　形）'!B8:X44,\"○\")","v":0},null,null,null,"人"]
[null,"参加選手　人数（組手）",null,null,{"$f":"COUNTIF('③参加調査（個人種目　組手）'!J8:V44,\"○\")","v":0},null,null,null,"人"]
[]
[]
[null,"パーソナルコーチ希望者記入欄　※不足の場合はコピーしてください。",null,null,null,null,null,null,null,null,null,null,null,null,null,null,null,null,null,null,null,null,null,null,null,null,null,null,"審判",null,"コーチ",null,null,"年度はじめ県連登録時送るものと同じ様式"]
[null,"フリガナ",null,null,null,"フリガナ",null,null,null,null,null,null,null,null,null,"コーチ全空連番号　",null,null,null,null,null,null,null,null,null,"有資格",null,null,null,null,null,null,"全空連会員カード　"]
[null,"選手名",null,null,null,"コーチ名"]
[]
[null,"フリガナ",null,null,null,"フリガナ",null,null,null,null,null,null,null,null,null,"コーチ全空連番号　",null,null,null,null,null,null,null,null,null,"有資格",null,null,null,null,null,null,"全空連会員カード　"]
[null,"選手名",null,null,null,"コーチ名"]
[]
[null,"フリガナ",null,null,null,"フリガナ",null,null,null,null,null,null,null,null,null,"コーチ全空連番号　",null,null,null,null,null,null,null,null,null,"有資格",null,null,null,null,null,null,"全空連会員カード　"]
[null,"選手名",null,null,null,"コーチ名"]
[]
[null,"フリガナ",null,null,null,"フリガナ",null,null,null,null,null,null,null,null,null,"コーチ全空連番号　",null,null,null,null,null,null,null,null,null,"有資格",null,null,null,null,null,null,"全空連会員カード　"]
[null,"選手名",null,null,null,"コーチ名"]
[]
[null,"フリガナ",null,null,null,"フリガナ",null,null,null,null,null,null,null,null,null,"コーチ全空連番号　",null,null,null,null,null,null,null,null,null,"有資格",null,null,null,null,null,null,"全空連会員カード　"]
[null,"選手名",null,null,null,"コーチ名"]
[]
[null,"フリガナ",null,null,null,"フリガナ",null,null,null,null,null,null,null,null,null,"コーチ全空連番号　",null,null,null,null,null,null,null,null,null,"有資格",null,null,null,null,null,null,"全空連会員カード　"]
[null,"選手名",null,null,null,"コーチ名"]

{"sheet":"②参加調査（個人種目　形）","index":2,"n_rows":68,"n_cols":24,"rows_kept":68,"cut":false,"hidden":false,"merged":[[6,18,6,19],[44,1,44,11],[2,1,2,12],[3,1,3,10],[4,1,4,3],[6,6,6,7]]}
["要送信・要送付"]
[]
[null,"令和5年度第3回全日本少年少女空手道選抜大会"]
[null,"参加申込書(個人種目　形）"]
[null,"地区名",null,null,null,null,"九州","地区協議会"]
[]
[null,null,null,null,"名簿の番号",null,"【　男子　】",null,null,null,null,null,null,null,null,null,"名簿の番号",null,"【　女子　】"]
[null,null,"種目","学年","番号",null,"選手氏名","ﾌﾘｶﾅ","県名","出場意向","全空連会員番号","公認段級",null,null,"種目","学年","番号",null,"選手氏名","ﾌﾘｶﾅ","県名","出場意向","全空連会員番号","公認段級"]
[null,1,"男子形",null,null,{"$f":"C9&D9&E9","v":"男子形"},{"$f":"IF($D9=\"\",\"\",VLOOKUP('②参加調査（個人種目　形）'!$F9,出場資格者名簿!$D$3:$F$146,2,FALSE))","v":""},null,{"$f":"IF($D9=\"\",\"\",VLOOKUP('②参加調査（個人種目　形）'!$F9,出場資格者名簿!$D$3:$F$146,3,FALSE))","v":""},null,null,null,null,1,"女子形",null,null,{"$f":"O9&P9&Q9","v":"女子形"},{"$f":"IF($P9=\"\",\"\",VLOOKUP('②参加調査（個人種目　形）'!$R9,出場資格者名簿!$D$3:$F$146,2,FALSE))","v":""},null,{"$f":"IF($P9=\"\",\"\",VLOOKUP('②参加調査（個人種目　形）'!$R9,出場資格者名簿!$D$3:$F$146,3,FALSE))","v":""}]
[null,2,"男子形",null,null,{"$f":"C10&D10&E10","v":"男子形"},{"$f":"IF(D10=\"\",\"\",VLOOKUP('②参加調査（個人種目　形）'!F10,出場資格者名簿!$D$3:$F$146,2,FALSE))","v":""},null,{"$f":"IF($D10=\"\",\"\",VLOOKUP('②参加調査（個人種目　形）'!$F10,出場資格者名簿!$D$3:$F$146,3,FALSE))","v":""},null,null,null,null,2,"女子形",null,null,{"$f":"O10&P10&Q10","v":"女子形"},{"$f":"IF(P10=\"\",\"\",VLOOKUP('②参加調査（個人種目　形）'!R10,出場資格者名簿!$D$3:$F$146,2,FALSE))","v":""},null,{"$f":"IF($P10=\"\",\"\",VLOOKUP('②参加調査（個人種目　形）'!$R10,出場資格者名簿!$D$3:$F$146,3,FALSE))","v":""}]
[null,3,"男子形",null,null,"男子形",{"$f":"IF(D11=\"\",\"\",VLOOKUP('②参加調査（個人種目　形）'!F11,出場資格者名簿!$D$3:$F$146,2,FALSE))","v":""},null,{"$f":"IF($D11=\"\",\"\",VLOOKUP('②参加調査（個人種目　形）'!$F11,出場資格者名簿!$D$3:$F$146,3,FALSE))","v":""},null,null,null,null,3,"女子形",null,null,"女子形",{"$f":"IF(P11=\"\",\"\",VLOOKUP('②参加調査（個人種目　形）'!R11,出場資格者名簿!$D$3:$F$146,2,FALSE))","v":""},null,{"$f":"IF($P11=\"\",\"\",VLOOKUP('②参加調査（個人種目　形）'!$R11,出場資格者名簿!$D$3:$F$146,3,FALSE))","v":""}]
[null,4,"男子形",null,null,"男子形",{"$f":"IF(D12=\"\",\"\",VLOOKUP('②参加調査（個人種目　形）'!F12,出場資格者名簿!$D$3:$F$146,2,FALSE))","v":""},null,{"$f":"IF($D12=\"\",\"\",VLOOKUP('②参加調査（個人種目　形）'!$F12,出場資格者名簿!$D$3:$F$146,3,FALSE))","v":""},null,null,null,null,4,"女子形",null,null,"女子形",{"$f":"IF(P12=\"\",\"\",VLOOKUP('②参加調査（個人種目　形）'!R12,出場資格者名簿!$D$3:$F$146,2,FALSE))","v":""},null,{"$f":"IF($P12=\"\",\"\",VLOOKUP('②参加調査（個人種目　形）'!$R12,出場資格者名簿!$D$3:$F$146,3,FALSE))","v":""}]
[null,5,"男子形",null,null,"男子形",{"$f":"IF(D13=\"\",\"\",VLOOKUP('②参加調査（個人種目　形）'!F13,出場資格者名簿!$D$3:$F$146,2,FALSE))","v":""},null,{"$f":"IF($D13=\"\",\"\",VLOOKUP('②参加調査（個人種目　形）'!$F13,出場資格者名簿!$D$3:$F$146,3,FALSE))","v":""},null,null,null,null,5,"女子形",null,null,"女子形",{"$f":"IF(P13=\"\",\"\",VLOOKUP('②参加調査（個人種目　形）'!R13,出場資格者名簿!$D$3:$F$146,2,FALSE))","v":""},null,{"$f":"IF($P13=\"\",\"\",VLOOKUP('②参加調査（個人種目　形）'!$R13,出場資格者名簿!$D$3:$F$146,3,FALSE))","v":""}]
[null,6,"男子形",null,null,"男子形",{"$f":"IF(D14=\"\",\"\",VLOOKUP('②参加調査（個人種目　形）'!F14,出場資格者名簿!$D$3:$F$146,2,FALSE))","v":""},null,{"$f":"IF($D14=\"\",\"\",VLOOKUP('②参加調査（個人種目　形）'!$F14,出場資格者名簿!$D$3:$F$146,3,FALSE))","v":""},null,null,null,null,6,"女子形",null,null,"女子形",{"$f":"IF(P14=\"\",\"\",VLOOKUP('②参加調査（個人種目　形）'!R14,出場資格者名簿!$D$3:$F$146,2,FALSE))","v":""},null,{"$f":"IF($P14=\"\",\"\",VLOOKUP('②参加調査（個人種目　形）'!$R14,出場資格者名簿!$D$3:$F$146,3,FALSE))","v":""}]
[null,7,"男子形",null,null,"男子形",{"$f":"IF(D15=\"\",\"\",VLOOKUP('②参加調査（個人種目　形）'!F15,出場資格者名簿!$D$3:$F$146,2,FALSE))","v":""},null,{"$f":"IF($D15=\"\",\"\",VLOOKUP('②参加調査（個人種目　形）'!$F15,出場資格者名簿!$D$3:$F$146,3,FALSE))","v":""},null,null,null,null,7,"女子形",null,null,"女子形",{"$f":"IF(P15=\"\",\"\",VLOOKUP('②参加調査（個人種目　形）'!R15,出場資格者名簿!$D$3:$F$146,2,FALSE))","v":""},null,{"$f":"IF($P15=\"\",\"\",VLOOKUP('②参加調査（個人種目　形）'!$R15,出場資格者名簿!$D$3:$F$146,3,FALSE))","v":""}]
[null,8,"男子形",null,null,"男子形",{"$f":"IF(D16=\"\",\"\",VLOOKUP('②参加調査（個人種目　形）'!F16,出場資格者名簿!$D$3:$F$146,2,FALSE))","v":""},null,{"$f":"IF($D16=\"\",\"\",VLOOKUP('②参加調査（個人種目　形）'!$F16,出場資格者名簿!$D$3:$F$146,3,FALSE))","v":""},null,null,null,null,8,"女子形",null,null,"女子形",{"$f":"IF(P16=\"\",\"\",VLOOKUP('②参加調査（個人種目　形）'!R16,出場資格者名簿!$D$3:$F$146,2,FALSE))","v":""},null,{"$f":"IF($P16=\"\",\"\",VLOOKUP('②参加調査（個人種目　形）'!$R16,出場資格者名簿!$D$3:$F$146,3,FALSE))","v":""}]
[null,9,"男子形",null,null,"男子形",{"$f":"IF(D17=\"\",\"\",VLOOKUP('②参加調査（個人種目　形）'!F17,出場資格者名簿!$D$3:$F$146,2,FALSE))","v":""},null,{"$f":"IF($D17=\"\",\"\",VLOOKUP('②参加調査（個人種目　形）'!$F17,出場資格者名簿!$D$3:$F$146,3,FALSE))","v":""},null,null,null,null,9,"女子形",null,null,"女子形",{"$f":"IF(P17=\"\",\"\",VLOOKUP('②参加調査（個人種目　形）'!R17,出場資格者名簿!$D$3:$F$146,2,FALSE))","v":""},null,{"$f":"IF($P17=\"\",\"\",VLOOKUP('②参加調査（個人種目　形）'!$R17,出場資格者名簿!$D$3:$F$146,3,FALSE))","v":""}]
[null,10,"男子形",null,null,"男子形",{"$f":"IF(D18=\"\",\"\",VLOOKUP('②参加調査（個人種目　形）'!F18,出場資格者名簿!$D$3:$F$146,2,FALSE))","v":""},null,{"$f":"IF($D18=\"\",\"\",VLOOKUP('②参加調査（個人種目　形）'!$F18,出場資格者名簿!$D$3:$F$146,3,FALSE))","v":""},null,null,null,null,10,"女子形",null,null,"女子形",{"$f":"IF(P18=\"\",\"\",VLOOKUP('②参加調査（個人種目　形）'!R18,出場資格者名簿!$D$3:$F$146,2,FALSE))","v":""},null,{"$f":"IF($P18=\"\",\"\",VLOOKUP('②参加調査（個人種目　形）'!$R18,出場資格者名簿!$D$3:$F$146,3,FALSE))","v":""}]
[null,11,"男子形",null,null,"男子形",{"$f":"IF(D19=\"\",\"\",VLOOKUP('②参加調査（個人種目　形）'!F19,出場資格者名簿!$D$3:$F$146,2,FALSE))","v":""},null,{"$f":"IF($D19=\"\",\"\",VLOOKUP('②参加調査（個人種目　形）'!$F19,出場資格者名簿!$D$3:$F$146,3,FALSE))","v":""},null,null,null,null,11,"女子形",null,null,"女子形",{"$f":"IF(P19=\"\",\"\",VLOOKUP('②参加調査（個人種目　形）'!R19,出場資格者名簿!$D$3:$F$146,2,FALSE))","v":""},null,{"$f":"IF($P19=\"\",\"\",VLOOKUP('②参加調査（個人種目　形）'!$R19,出場資格者名簿!$D$3:$F$146,3,FALSE))","v":""}]
[null,12,"男子形",null,null,"男子形",{"$f":"IF(D20=\"\",\"\",VLOOKUP('②参加調査（個人種目　形）'!F20,出場資格者名簿!$D$3:$F$146,2,FALSE))","v":""},null,{"$f":"IF($D20=\"\",\"\",VLOOKUP('②参加調査（個人種目　形）'!$F20,出場資格者名簿!$D$3:$F$146,3,FALSE))","v":""},null,null,null,null,12,"女子形",null,null,"女子形",{"$f":"IF(P20=\"\",\"\",VLOOKUP('②参加調査（個人種目　形）'!R20,出場資格者名簿!$D$3:$F$146,2,FALSE))","v":""},null,{"$f":"IF($P20=\"\",\"\",VLOOKUP('②参加調査（個人種目　形）'!$R20,出場資格者名簿!$D$3:$F$146,3,FALSE))","v":""}]
[null,13,"男子形",null,null,"男子形",{"$f":"IF(D21=\"\",\"\",VLOOKUP('②参加調査（個人種目　形）'!F21,出場資格者名簿!$D$3:$F$146,2,FALSE))","v":""},null,{"$f":"IF($D21=\"\",\"\",VLOOKUP('②参加調査（個人種目　形）'!$F21,出場資格者名簿!$D$3:$F$146,3,FALSE))","v":""},null,null,null,null,13,"女子形",null,null,"女子形",{"$f":"IF(P21=\"\",\"\",VLOOKUP('②参加調査（個人種目　形）'!R21,出場資格者名簿!$D$3:$F$146,2,FALSE))","v":""},null,{"$f":"IF($P21=\"\",\"\",VLOOKUP('②参加調査（個人種目　形）'!$R21,出場資格者名簿!$D$3:$F$146,3,FALSE))","v":""}]
[null,14,"男子形",null,null,"男子形",{"$f":"IF(D22=\"\",\"\",VLOOKUP('②参加調査（個人種目　形）'!F22,出場資格者名簿!$D$3:$F$146,2,FALSE))","v":""},null,{"$f":"IF($D22=\"\",\"\",VLOOKUP('②参加調査（個人種目　形）'!$F22,出場資格者名簿!$D$3:$F$146,3,FALSE))","v":""},null,null,null,null,14,"女子形",null,null,"女子形",{"$f":"IF(P22=\"\",\"\",VLOOKUP('②参加調査（個人種目　形）'!R22,出場資格者名簿!$D$3:$F$146,2,FALSE))","v":""},null,{"$f":"IF($P22=\"\",\"\",VLOOKUP('②参加調査（個人種目　形）'!$R22,出場資格者名簿!$D$3:$F$146,3,FALSE))","v":""}]
[null,15,"男子形",null,null,"男子形",{"$f":"IF(D23=\"\",\"\",VLOOKUP('②参加調査（個人種目　形）'!F23,出場資格者名簿!$D$3:$F$146,2,FALSE))","v":""},null,{"$f":"IF($D23=\"\",\"\",VLOOKUP('②参加調査（個人種目　形）'!$F23,出場資格者名簿!$D$3:$F$146,3,FALSE))","v":""},null,null,null,null,15,"女子形",null,null,"女子形",{"$f":"IF(P23=\"\",\"\",VLOOKUP('②参加調査（個人種目　形）'!R23,出場資格者名簿!$D$3:$F$146,2,FALSE))","v":""},null,{"$f":"IF($P23=\"\",\"\",VLOOKUP('②参加調査（個人種目　形）'!$R23,出場資格者名簿!$D$3:$F$146,3,FALSE))","v":""}]
[null,16,"男子形",null,null,"男子形",{"$f":"IF(D24=\"\",\"\",VLOOKUP('②参加調査（個人種目　形）'!F24,出場資格者名簿!$D$3:$F$146,2,FALSE))","v":""},null,{"$f":"IF($D24=\"\",\"\",VLOOKUP('②参加調査（個人種目　形）'!$F24,出場資格者名簿!$D$3:$F$146,3,FALSE))","v":""},null,null,null,null,16,"女子形",null,null,"女子形",{"$f":"IF(P24=\"\",\"\",VLOOKUP('②参加調査（個人種目　形）'!R24,出場資格者名簿!$D$3:$F$146,2,FALSE))","v":""},null,{"$f":"IF($P24=\"\",\"\",VLOOKUP('②参加調査（個人種目　形）'!$R24,出場資格者名簿!$D$3:$F$146,3,FALSE))","v":""}]
[null,17,"男子形",null,null,"男子形",{"$f":"IF(D25=\"\",\"\",VLOOKUP('②参加調査（個人種目　形）'!F25,出場資格者名簿!$D$3:$F$146,2,FALSE))","v":""},null,{"$f":"IF($D25=\"\",\"\",VLOOKUP('②参加調査（個人種目　形）'!$F25,出場資格者名簿!$D$3:$F$146,3,FALSE))","v":""},null,null,null,null,17,"女子形",null,null,"女子形",{"$f":"IF(P25=\"\",\"\",VLOOKUP('②参加調査（個人種目　形）'!R25,出場資格者名簿!$D$3:$F$146,2,FALSE))","v":""},null,{"$f":"IF($P25=\"\",\"\",VLOOKUP('②参加調査（個人種目　形）'!$R25,出場資格者名簿!$D$3:$F$146,3,FALSE))","v":""}]
[null,18,"男子形",null,null,"男子形",{"$f":"IF(D26=\"\",\"\",VLOOKUP('②参加調査（個人種目　形）'!F26,出場資格者名簿!$D$3:$F$146,2,FALSE))","v":""},null,{"$f":"IF($D26=\"\",\"\",VLOOKUP('②参加調査（個人種目　形）'!$F26,出場資格者名簿!$D$3:$F$146,3,FALSE))","v":""},null,null,null,null,18,"女子形",null,null,"女子形",{"$f":"IF(P26=\"\",\"\",VLOOKUP('②参加調査（個人種目　形）'!R26,出場資格者名簿!$D$3:$F$146,2,FALSE))","v":""},null,{"$f":"IF($P26=\"\",\"\",VLOOKUP('②参加調査（個人種目　形）'!$R26,出場資格者名簿!$D$3:$F$146,3,FALSE))","v":""}]
[null,19,"男子形",null,null,"男子形",{"$f":"IF(D27=\"\",\"\",VLOOKUP('②参加調査（個人種目　形）'!F27,出場資格者名簿!$D$3:$F$146,2,FALSE))","v":""},null,{"$f":"IF($D27=\"\",\"\",VLOOKUP('②参加調査（個人種目　形）'!$F27,出場資格者名簿!$D$3:$F$146,3,FALSE))","v":""},null,null,null,null,19,"女子形",null,null,"女子形",{"$f":"IF(P27=\"\",\"\",VLOOKUP('②参加調査（個人種目　形）'!R27,出場資格者名簿!$D$3:$F$146,2,FALSE))","v":""},null,{"$f":"IF($P27=\"\",\"\",VLOOKUP('②参加調査（個人種目　形）'!$R27,出場資格者名簿!$D$3:$F$146,3,FALSE))","v":""}]
[null,20,"男子形",null,null,"男子形",{"$f":"IF(D28=\"\",\"\",VLOOKUP('②参加調査（個人種目　形）'!F28,出場資格者名簿!$D$3:$F$146,2,FALSE))","v":""},null,{"$f":"IF($D28=\"\",\"\",VLOOKUP('②参加調査（個人種目　形）'!$F28,出場資格者名簿!$D$3:$F$146,3,FALSE))","v":""},null,null,null,null,20,"女子形",null,null,"女子形",{"$f":"IF(P28=\"\",\"\",VLOOKUP('②参加調査（個人種目　形）'!R28,出場資格者名簿!$D$3:$F$146,2,FALSE))","v":""},null,{"$f":"IF($P28=\"\",\"\",VLOOKUP('②参加調査（個人種目　形）'!$R28,出場資格者名簿!$D$3:$F$146,3,FALSE))","v":""}]
[null,21,"男子形",null,null,"男子形",{"$f":"IF(D29=\"\",\"\",VLOOKUP('②参加調査（個人種目　形）'!F29,出場資格者名簿!$D$3:$F$146,2,FALSE))","v":""},null,{"$f":"IF($D29=\"\",\"\",VLOOKUP('②参加調査（個人種目　形）'!$F29,出場資格者名簿!$D$3:$F$146,3,FALSE))","v":""},null,null,null,null,21,"女子形",null,null,"女子形",{"$f":"IF(P29=\"\",\"\",VLOOKUP('②参加調査（個人種目　形）'!R29,出場資格者名簿!$D$3:$F$146,2,FALSE))","v":""},null,{"$f":"IF($P29=\"\",\"\",VLOOKUP('②参加調査（個人種目　形）'!$R29,出場資格者名簿!$D$3:$F$146,3,FALSE))","v":""}]
[null,22,"男子形",null,null,"男子形",{"$f":"IF(D30=\"\",\"\",VLOOKUP('②参加調査（個人種目　形）'!F30,出場資格者名簿!$D$3:$F$146,2,FALSE))","v":""},null,{"$f":"IF($D30=\"\",\"\",VLOOKUP('②参加調査（個人種目　形）'!$F30,出場資格者名簿!$D$3:$F$146,3,FALSE))","v":""},null,null,null,null,22,"女子形",null,null,"女子形",{"$f":"IF(P30=\"\",\"\",VLOOKUP('②参加調査（個人種目　形）'!R30,出場資格者名簿!$D$3:$F$146,2,FALSE))","v":""},null,{"$f":"IF($P30=\"\",\"\",VLOOKUP('②参加調査（個人種目　形）'!$R30,出場資格者名簿!$D$3:$F$146,3,FALSE))","v":""}]
[null,23,"男子形",null,null,"男子形",{"$f":"IF(D31=\"\",\"\",VLOOKUP('②参加調査（個人種目　形）'!F31,出場資格者名簿!$D$3:$F$146,2,FALSE))","v":""},null,{"$f":"IF($D31=\"\",\"\",VLOOKUP('②参加調査（個人種目　形）'!$F31,出場資格者名簿!$D$3:$F$146,3,FALSE))","v":""},null,null,null,null,23,"女子形",null,null,"女子形",{"$f":"IF(P31=\"\",\"\",VLOOKUP('②参加調査（個人種目　形）'!R31,出場資格者名簿!$D$3:$F$146,2,FALSE))","v":""},null,{"$f":"IF($P31=\"\",\"\",VLOOKUP('②参加調査（個人種目　形）'!$R31,出場資格者名簿!$D$3:$F$146,3,FALSE))","v":""}]
[null,24,"男子形",null,null,"男子形",{"$f":"IF(D32=\"\",\"\",VLOOKUP('②参加調査（個人種目　形）'!F32,出場資格者名簿!$D$3:$F$146,2,FALSE))","v":""},null,{"$f":"IF($D32=\"\",\"\",VLOOKUP('②参加調査（個人種目　形）'!$F32,出場資格者名簿!$D$3:$F$146,3,FALSE))","v":""},null,null,null,null,24,"女子形",null,null,"女子形",{"$f":"IF(P32=\"\",\"\",VLOOKUP('②参加調査（個人種目　形）'!R32,出場資格者名簿!$D$3:$F$146,2,FALSE))","v":""},null,{"$f":"IF($P32=\"\",\"\",VLOOKUP('②参加調査（個人種目　形）'!$R32,出場資格者名簿!$D$3:$F$146,3,FALSE))","v":""}]
[null,25,"男子形",null,null,"男子形",{"$f":"IF(D33=\"\",\"\",VLOOKUP('②参加調査（個人種目　形）'!F33,出場資格者名簿!$D$3:$F$146,2,FALSE))","v":""},null,{"$f":"IF($D33=\"\",\"\",VLOOKUP('②参加調査（個人種目　形）'!$F33,出場資格者名簿!$D$3:$F$146,3,FALSE))","v":""},null,null,null,null,25,"女子形",null,null,"女子形",{"$f":"IF(P33=\"\",\"\",VLOOKUP('②参加調査（個人種目　形）'!R33,出場資格者名簿!$D$3:$F$146,2,FALSE))","v":""},null,{"$f":"IF($P33=\"\",\"\",VLOOKUP('②参加調査（個人種目　形）'!$R33,出場資格者名簿!$D$3:$F$146,3,FALSE))","v":""}]
[null,26,"男子形",null,null,"男子形",{"$f":"IF(D34=\"\",\"\",VLOOKUP('②参加調査（個人種目　形）'!F34,出場資格者名簿!$D$3:$F$146,2,FALSE))","v":""},null,{"$f":"IF($D34=\"\",\"\",VLOOKUP('②参加調査（個人種目　形）'!$F34,出場資格者名簿!$D$3:$F$146,3,FALSE))","v":""},null,null,null,null,26,"女子形",null,null,"女子形",{"$f":"IF(P34=\"\",\"\",VLOOKUP('②参加調査（個人種目　形）'!R34,出場資格者名簿!$D$3:$F$146,2,FALSE))","v":""},null,{"$f":"IF($P34=\"\",\"\",VLOOKUP('②参加調査（個人種目　形）'!$R34,出場資格者名簿!$D$3:$F$146,3,FALSE))","v":""}]
[null,27,"男子形",null,null,"男子形",{"$f":"IF(D35=\"\",\"\",VLOOKUP('②参加調査（個人種目　形）'!F35,出場資格者名簿!$D$3:$F$146,2,FALSE))","v":""},null,{"$f":"IF($D35=\"\",\"\",VLOOKUP('②参加調査（個人種目　形）'!$F35,出場資格者名簿!$D$3:$F$146,3,FALSE))","v":""},null,null,null,null,27,"女子形",null,null,"女子形",{"$f":"IF(P35=\"\",\"\",VLOOKUP('②参加調査（個人種目　形）'!R35,出場資格者名簿!$D$3:$F$146,2,FALSE))","v":""},null,{"$f":"IF($P35=\"\",\"\",VLOOKUP('②参加調査（個人種目　形）'!$R35,出場資格者名簿!$D$3:$F$146,3,FALSE))","v":""}]
[null,28,"男子形",null,null,"男子形",{"$f":"IF(D36=\"\",\"\",VLOOKUP('②参加調査（個人種目　形）'!F36,出場資格者名簿!$D$3:$F$146,2,FALSE))","v":""},null,{"$f":"IF($D36=\"\",\"\",VLOOKUP('②参加調査（個人種目　形）'!$F36,出場資格者名簿!$D$3:$F$146,3,FALSE))","v":""},null,null,null,null,28,"女子形",null,null,"女子形",{"$f":"IF(P36=\"\",\"\",VLOOKUP('②参加調査（個人種目　形）'!R36,出場資格者名簿!$D$3:$F$146,2,FALSE))","v":""},null,{"$f":"IF($P36=\"\",\"\",VLOOKUP('②参加調査（個人種目　形）'!$R36,出場資格者名簿!$D$3:$F$146,3,FALSE))","v":""}]
[null,29,"男子形",null,null,"男子形",{"$f":"IF(D37=\"\",\"\",VLOOKUP('②参加調査（個人種目　形）'!F37,出場資格者名簿!$D$3:$F$146,2,FALSE))","v":""},null,{"$f":"IF($D37=\"\",\"\",VLOOKUP('②参加調査（個人種目　形）'!$F37,出場資格者名簿!$D$3:$F$146,3,FALSE))","v":""},null,null,null,null,29,"女子形",null,null,"女子形",{"$f":"IF(P37=\"\",\"\",VLOOKUP('②参加調査（個人種目　形）'!R37,出場資格者名簿!$D$3:$F$146,2,FALSE))","v":""},null,{"$f":"IF($P37=\"\",\"\",VLOOKUP('②参加調査（個人種目　形）'!$R37,出場資格者名簿!$D$3:$F$146,3,FALSE))","v":""}]
[null,30,"男子形",null,null,"男子形",{"$f":"IF(D38=\"\",\"\",VLOOKUP('②参加調査（個人種目　形）'!F38,出場資格者名簿!$D$3:$F$146,2,FALSE))","v":""},null,{"$f":"IF($D38=\"\",\"\",VLOOKUP('②参加調査（個人種目　形）'!$F38,出場資格者名簿!$D$3:$F$146,3,FALSE))","v":""},null,null,null,null,30,"女子形",null,null,"女子形",{"$f":"IF(P38=\"\",\"\",VLOOKUP('②参加調査（個人種目　形）'!R38,出場資格者名簿!$D$3:$F$146,2,FALSE))","v":""},null,{"$f":"IF($P38=\"\",\"\",VLOOKUP('②参加調査（個人種目　形）'!$R38,出場資格者名簿!$D$3:$F$146,3,FALSE))","v":""}]
[null,31,"男子形",null,null,"男子形",{"$f":"IF(D39=\"\",\"\",VLOOKUP('②参加調査（個人種目　形）'!F39,出場資格者名簿!$D$3:$F$146,2,FALSE))","v":""},null,{"$f":"IF($D39=\"\",\"\",VLOOKUP('②参加調査（個人種目　形）'!$F39,出場資格者名簿!$D$3:$F$146,3,FALSE))","v":""},null,null,null,null,31,"女子形",null,null,"女子形",{"$f":"IF(P39=\"\",\"\",VLOOKUP('②参加調査（個人種目　形）'!R39,出場資格者名簿!$D$3:$F$146,2,FALSE))","v":""},null,{"$f":"IF($P39=\"\",\"\",VLOOKUP('②参加調査（個人種目　形）'!$R39,出場資格者名簿!$D$3:$F$146,3,FALSE))","v":""}]
[null,32,"男子形",null,null,"男子形",{"$f":"IF(D40=\"\",\"\",VLOOKUP('②参加調査（個人種目　形）'!F40,出場資格者名簿!$D$3:$F$146,2,FALSE))","v":""},null,{"$f":"IF($D40=\"\",\"\",VLOOKUP('②参加調査（個人種目　形）'!$F40,出場資格者名簿!$D$3:$F$146,3,FALSE))","v":""},null,null,null,null,32,"女子形",null,null,"女子形",{"$f":"IF(P40=\"\",\"\",VLOOKUP('②参加調査（個人種目　形）'!R40,出場資格者名簿!$D$3:$F$146,2,FALSE))","v":""},null,{"$f":"IF($P40=\"\",\"\",VLOOKUP('②参加調査（個人種目　形）'!$R40,出場資格者名簿!$D$3:$F$146,3,FALSE))","v":""}]
[null,33,"男子形",null,null,"男子形",{"$f":"IF(D41=\"\",\"\",VLOOKUP('②参加調査（個人種目　形）'!F41,出場資格者名簿!$D$3:$F$146,2,FALSE))","v":""},null,{"$f":"IF($D41=\"\",\"\",VLOOKUP('②参加調査（個人種目　形）'!$F41,出場資格者名簿!$D$3:$F$146,3,FALSE))","v":""},null,null,null,null,33,"女子形",null,null,"女子形",{"$f":"IF(P41=\"\",\"\",VLOOKUP('②参加調査（個人種目　形）'!R41,出場資格者名簿!$D$3:$F$146,2,FALSE))","v":""},null,{"$f":"IF($P41=\"\",\"\",VLOOKUP('②参加調査（個人種目　形）'!$R41,出場資格者名簿!$D$3:$F$146,3,FALSE))","v":""}]
[null,34,"男子形",null,null,"男子形",{"$f":"IF(D42=\"\",\"\",VLOOKUP('②参加調査（個人種目　形）'!F42,出場資格者名簿!$D$3:$F$146,2,FALSE))","v":""},null,{"$f":"IF($D42=\"\",\"\",VLOOKUP('②参加調査（個人種目　形）'!$F42,出場資格者名簿!$D$3:$F$146,3,FALSE))","v":""},null,null,null,null,34,"女子形",null,null,"女子形",{"$f":"IF(P42=\"\",\"\",VLOOKUP('②参加調査（個人種目　形）'!R42,出場資格者名簿!$D$3:$F$146,2,FALSE))","v":""},null,{"$f":"IF($P42=\"\",\"\",VLOOKUP('②参加調査（個人種目　形）'!$R42,出場資格者名簿!$D$3:$F$146,3,FALSE))","v":""}]
[null,35,"男子形",null,null,"男子形",{"$f":"IF(D43=\"\",\"\",VLOOKUP('②参加調査（個人種目　形）'!F43,出場資格者名簿!$D$3:$F$146,2,FALSE))","v":""},null,{"$f":"IF($D43=\"\",\"\",VLOOKUP('②参加調査（個人種目　形）'!$F43,出場資格者名簿!$D$3:$F$146,3,FALSE))","v":""},null,null,null,null,35,"女子形",null,null,"女子形",{"$f":"IF(P43=\"\",\"\",VLOOKUP('②参加調査（個人種目　形）'!R43,出場資格者名簿!$D$3:$F$146,2,FALSE))","v":""},null,{"$f":"IF($P43=\"\",\"\",VLOOKUP('②参加調査（個人種目　形）'!$R43,出場資格者名簿!$D$3:$F$146,3,FALSE))","v":""}]
[null,36,"男子形",null,null,"男子形",{"$f":"IF(D44=\"\",\"\",VLOOKUP('②参加調査（個人種目　形）'!F44,出場資格者名簿!$D$3:$F$146,2,FALSE))","v":""},null,{"$f":"IF($D44=\"\",\"\",VLOOKUP('②参加調査（個人種目　形）'!$F44,出場資格者名簿!$D$3:$F$146,3,FALSE))","v":""},null,null,null,null,36,"女子形",null,null,"女子形",{"$f":"IF(P44=\"\",\"\",VLOOKUP('②参加調査（個人種目　形）'!R44,出場資格者名簿!$D$3:$F$146,2,FALSE))","v":""},null,{"$f":"IF($P44=\"\",\"\",VLOOKUP('②参加調査（個人種目　形）'!$R44,出場資格者名簿!$D$3:$F$146,3,FALSE))","v":""}]
[]
[]
[]
[]
[]
[]
[]
[]
[]
[]
[]
[]
[]
[null,null,null,null,null,null,null,null,"1年",1,null,"2段",null,"北海道",null,null,null,null,null,null,1,null,null,"2段"]
[null,null,null,null,null,null,null,null,"2年",2,null,"初段",null,"東北",null,null,null,null,null,null,2,null,null,"初段"]
[null,null,null,null,null,null,null,null,"3年",3,null,"1級",null,"関東",null,null,null,null,null,null,3,null,null,"1級"]
[null,null,null,null,null,null,null,null,"4年",4,null,"2級",null,"東海",null,null,null,null,null,null,4,null,null,"2級"]
[null,null,null,null,null,null,null,null,"5年",5,null,"3級",null,"北信越",null,null,null,null,null,null,5,null,null,"3級"]
[null,null,null,null,null,null,null,null,"6年",6,null,"4級",null,"近畿",null,null,null,null,null,null,6,null,null,"4級"]
[null,null,null,null,null,null,null,null,null,null,null,"5級",null,"中国",null,null,null,null,null,null,null,null,null,"5級"]
[null,null,null,null,null,null,null,null,null,null,null,"6級",null,"四国",null,null,null,null,null,null,null,null,null,"6級"]
[null,null,null,null,null,null,null,null,null,null,null,"7級",null,"九州",null,null,null,null,null,null,null,null,null,"7級"]
[null,null,null,null,null,null,null,null,null,null,null,"8級",null,null,null,null,null,null,null,null,null,null,null,"8級"]
[null,null,null,null,null,null,null,null,null,null,null,"9級",null,null,null,null,null,null,null,null,null,null,null,"9級"]

{"sheet":"③参加調査（個人種目　組手）","index":3,"n_rows":68,"n_cols":24,"rows_kept":68,"cut":false,"hidden":false,"merged":[[6,18,6,19],[44,1,44,11],[2,1,2,12],[3,1,3,10],[4,1,4,3],[6,6,6,7]]}
["要送信・要送付"]
[]
[null,"令和5年度第3回全日本少年少女空手道選抜大会"]
[null,"参加申込書(個人種目　組手）"]
[null,"地区名",null,null,null,null,"九州","地区協議会"]
[]
[null,null,null,null,null,null,"【　男子　】",null,null,null,null,null,null,null,null,null,null,null,"【　女子　】"]
[null,null,"種目","学年","番号",null,"選手氏名","ﾌﾘｶﾅ","県名","出場意向","全空連会員番号","公認段級",null,null,"種目","学年","番号",null,"選手氏名","ﾌﾘｶﾅ","県名","出場意向","全空連会員番号","公認段級"]
[null,1,"男子組手",null,null,{"$f":"C9&D9&E9","v":"男子組手"},{"$f":"IF($D9=\"\",\"\",VLOOKUP('③参加調査（個人種目　組手）'!$F9,出場資格者名簿!$D$3:$F$146,2,FALSE))","v":""},null,{"$f":"IF($D9=\"\",\"\",VLOOKUP('③参加調査（個人種目　組手）'!$F9,出場資格者名簿!$D$3:$F$146,3,FALSE))","v":""},null,null,null,null,1,"女子組手",null,null,{"$f":"O9&P9&Q9","v":"女子組手"},{"$f":"IF($P9=\"\",\"\",VLOOKUP('③参加調査（個人種目　組手）'!$R9,出場資格者名簿!$D$3:$F$146,2,FALSE))","v":""},null,{"$f":"IF($P9=\"\",\"\",VLOOKUP('③参加調査（個人種目　組手）'!$R9,出場資格者名簿!$D$3:$F$146,3,FALSE))","v":""}]
[null,2,"男子組手",null,null,{"$f":"C10&D10&E10","v":"男子組手"},{"$f":"IF(D10=\"\",\"\",VLOOKUP('③参加調査（個人種目　組手）'!F10,出場資格者名簿!$D$3:$F$146,2,FALSE))","v":""},null,{"$f":"IF($D10=\"\",\"\",VLOOKUP('③参加調査（個人種目　組手）'!$F10,出場資格者名簿!$D$3:$F$146,3,FALSE))","v":""},null,null,null,null,2,"女子組手",null,null,{"$f":"O10&P10&Q10","v":"女子組手"},{"$f":"IF(P10=\"\",\"\",VLOOKUP('③参加調査（個人種目　組手）'!R10,出場資格者名簿!$D$3:$F$146,2,FALSE))","v":""},null,{"$f":"IF($P10=\"\",\"\",VLOOKUP('③参加調査（個人種目　組手）'!$R10,出場資格者名簿!$D$3:$F$146,3,FALSE))","v":""}]
[null,3,"男子組手",null,null,"男子組手",{"$f":"IF(D11=\"\",\"\",VLOOKUP('③参加調査（個人種目　組手）'!F11,出場資格者名簿!$D$3:$F$146,2,FALSE))","v":""},null,{"$f":"IF($D11=\"\",\"\",VLOOKUP('③参加調査（個人種目　組手）'!$F11,出場資格者名簿!$D$3:$F$146,3,FALSE))","v":""},null,null,null,null,3,"女子組手",null,null,"女子組手",{"$f":"IF(P11=\"\",\"\",VLOOKUP('③参加調査（個人種目　組手）'!R11,出場資格者名簿!$D$3:$F$146,2,FALSE))","v":""},null,{"$f":"IF($P11=\"\",\"\",VLOOKUP('③参加調査（個人種目　組手）'!$R11,出場資格者名簿!$D$3:$F$146,3,FALSE))","v":""}]
[null,4,"男子組手",null,null,"男子組手",{"$f":"IF(D12=\"\",\"\",VLOOKUP('③参加調査（個人種目　組手）'!F12,出場資格者名簿!$D$3:$F$146,2,FALSE))","v":""},null,{"$f":"IF($D12=\"\",\"\",VLOOKUP('③参加調査（個人種目　組手）'!$F12,出場資格者名簿!$D$3:$F$146,3,FALSE))","v":""},null,null,null,null,4,"女子組手",null,null,"女子組手",{"$f":"IF(P12=\"\",\"\",VLOOKUP('③参加調査（個人種目　組手）'!R12,出場資格者名簿!$D$3:$F$146,2,FALSE))","v":""},null,{"$f":"IF($P12=\"\",\"\",VLOOKUP('③参加調査（個人種目　組手）'!$R12,出場資格者名簿!$D$3:$F$146,3,FALSE))","v":""}]
[null,5,"男子組手",null,null,"男子組手",{"$f":"IF(D13=\"\",\"\",VLOOKUP('③参加調査（個人種目　組手）'!F13,出場資格者名簿!$D$3:$F$146,2,FALSE))","v":""},null,{"$f":"IF($D13=\"\",\"\",VLOOKUP('③参加調査（個人種目　組手）'!$F13,出場資格者名簿!$D$3:$F$146,3,FALSE))","v":""},null,null,null,null,5,"女子組手",null,null,"女子組手",{"$f":"IF(P13=\"\",\"\",VLOOKUP('③参加調査（個人種目　組手）'!R13,出場資格者名簿!$D$3:$F$146,2,FALSE))","v":""},null,{"$f":"IF($P13=\"\",\"\",VLOOKUP('③参加調査（個人種目　組手）'!$R13,出場資格者名簿!$D$3:$F$146,3,FALSE))","v":""}]
[null,6,"男子組手",null,null,"男子組手",{"$f":"IF(D14=\"\",\"\",VLOOKUP('③参加調査（個人種目　組手）'!F14,出場資格者名簿!$D$3:$F$146,2,FALSE))","v":""},null,{"$f":"IF($D14=\"\",\"\",VLOOKUP('③参加調査（個人種目　組手）'!$F14,出場資格者名簿!$D$3:$F$146,3,FALSE))","v":""},null,null,null,null,6,"女子組手",null,null,"女子組手",{"$f":"IF(P14=\"\",\"\",VLOOKUP('③参加調査（個人種目　組手）'!R14,出場資格者名簿!$D$3:$F$146,2,FALSE))","v":""},null,{"$f":"IF($P14=\"\",\"\",VLOOKUP('③参加調査（個人種目　組手）'!$R14,出場資格者名簿!$D$3:$F$146,3,FALSE))","v":""}]
[null,7,"男子組手",null,null,"男子組手",{"$f":"IF(D15=\"\",\"\",VLOOKUP('③参加調査（個人種目　組手）'!F15,出場資格者名簿!$D$3:$F$146,2,FALSE))","v":""},null,{"$f":"IF($D15=\"\",\"\",VLOOKUP('③参加調査（個人種目　組手）'!$F15,出場資格者名簿!$D$3:$F$146,3,FALSE))","v":""},null,null,null,null,7,"女子組手",null,null,"女子組手",{"$f":"IF(P15=\"\",\"\",VLOOKUP('③参加調査（個人種目　組手）'!R15,出場資格者名簿!$D$3:$F$146,2,FALSE))","v":""},null,{"$f":"IF($P15=\"\",\"\",VLOOKUP('③参加調査（個人種目　組手）'!$R15,出場資格者名簿!$D$3:$F$146,3,FALSE))","v":""}]
[null,8,"男子組手",null,null,"男子組手",{"$f":"IF(D16=\"\",\"\",VLOOKUP('③参加調査（個人種目　組手）'!F16,出場資格者名簿!$D$3:$F$146,2,FALSE))","v":""},null,{"$f":"IF($D16=\"\",\"\",VLOOKUP('③参加調査（個人種目　組手）'!$F16,出場資格者名簿!$D$3:$F$146,3,FALSE))","v":""},null,null,null,null,8,"女子組手",null,null,"女子組手",{"$f":"IF(P16=\"\",\"\",VLOOKUP('③参加調査（個人種目　組手）'!R16,出場資格者名簿!$D$3:$F$146,2,FALSE))","v":""},null,{"$f":"IF($P16=\"\",\"\",VLOOKUP('③参加調査（個人種目　組手）'!$R16,出場資格者名簿!$D$3:$F$146,3,FALSE))","v":""}]
[null,9,"男子組手",null,null,"男子組手",{"$f":"IF(D17=\"\",\"\",VLOOKUP('③参加調査（個人種目　組手）'!F17,出場資格者名簿!$D$3:$F$146,2,FALSE))","v":""},null,{"$f":"IF($D17=\"\",\"\",VLOOKUP('③参加調査（個人種目　組手）'!$F17,出場資格者名簿!$D$3:$F$146,3,FALSE))","v":""},null,null,null,null,9,"女子組手",null,null,"女子組手",{"$f":"IF(P17=\"\",\"\",VLOOKUP('③参加調査（個人種目　組手）'!R17,出場資格者名簿!$D$3:$F$146,2,FALSE))","v":""},null,{"$f":"IF($P17=\"\",\"\",VLOOKUP('③参加調査（個人種目　組手）'!$R17,出場資格者名簿!$D$3:$F$146,3,FALSE))","v":""}]
[null,10,"男子組手",null,null,"男子組手",{"$f":"IF(D18=\"\",\"\",VLOOKUP('③参加調査（個人種目　組手）'!F18,出場資格者名簿!$D$3:$F$146,2,FALSE))","v":""},null,{"$f":"IF($D18=\"\",\"\",VLOOKUP('③参加調査（個人種目　組手）'!$F18,出場資格者名簿!$D$3:$F$146,3,FALSE))","v":""},null,null,null,null,10,"女子組手",null,null,"女子組手",{"$f":"IF(P18=\"\",\"\",VLOOKUP('③参加調査（個人種目　組手）'!R18,出場資格者名簿!$D$3:$F$146,2,FALSE))","v":""},null,{"$f":"IF($P18=\"\",\"\",VLOOKUP('③参加調査（個人種目　組手）'!$R18,出場資格者名簿!$D$3:$F$146,3,FALSE))","v":""}]
[null,11,"男子組手",null,null,"男子組手",{"$f":"IF(D19=\"\",\"\",VLOOKUP('③参加調査（個人種目　組手）'!F19,出場資格者名簿!$D$3:$F$146,2,FALSE))","v":""},null,{"$f":"IF($D19=\"\",\"\",VLOOKUP('③参加調査（個人種目　組手）'!$F19,出場資格者名簿!$D$3:$F$146,3,FALSE))","v":""},null,null,null,null,11,"女子組手",null,null,"女子組手",{"$f":"IF(P19=\"\",\"\",VLOOKUP('③参加調査（個人種目　組手）'!R19,出場資格者名簿!$D$3:$F$146,2,FALSE))","v":""},null,{"$f":"IF($P19=\"\",\"\",VLOOKUP('③参加調査（個人種目　組手）'!$R19,出場資格者名簿!$D$3:$F$146,3,FALSE))","v":""}]
[null,12,"男子組手",null,null,"男子組手",{"$f":"IF(D20=\"\",\"\",VLOOKUP('③参加調査（個人種目　組手）'!F20,出場資格者名簿!$D$3:$F$146,2,FALSE))","v":""},null,{"$f":"IF($D20=\"\",\"\",VLOOKUP('③参加調査（個人種目　組手）'!$F20,出場資格者名簿!$D$3:$F$146,3,FALSE))","v":""},null,null,null,null,12,"女子組手",null,null,"女子組手",{"$f":"IF(P20=\"\",\"\",VLOOKUP('③参加調査（個人種目　組手）'!R20,出場資格者名簿!$D$3:$F$146,2,FALSE))","v":""},null,{"$f":"IF($P20=\"\",\"\",VLOOKUP('③参加調査（個人種目　組手）'!$R20,出場資格者名簿!$D$3:$F$146,3,FALSE))","v":""}]
[null,13,"男子組手",null,null,"男子組手",{"$f":"IF(D21=\"\",\"\",VLOOKUP('③参加調査（個人種目　組手）'!F21,出場資格者名簿!$D$3:$F$146,2,FALSE))","v":""},null,{"$f":"IF($D21=\"\",\"\",VLOOKUP('③参加調査（個人種目　組手）'!$F21,出場資格者名簿!$D$3:$F$146,3,FALSE))","v":""},null,null,null,null,13,"女子組手",null,null,"女子組手",{"$f":"IF(P21=\"\",\"\",VLOOKUP('③参加調査（個人種目　組手）'!R21,出場資格者名簿!$D$3:$F$146,2,FALSE))","v":""},null,{"$f":"IF($P21=\"\",\"\",VLOOKUP('③参加調査（個人種目　組手）'!$R21,出場資格者名簿!$D$3:$F$146,3,FALSE))","v":""}]
[null,14,"男子組手",null,null,"男子組手",{"$f":"IF(D22=\"\",\"\",VLOOKUP('③参加調査（個人種目　組手）'!F22,出場資格者名簿!$D$3:$F$146,2,FALSE))","v":""},null,{"$f":"IF($D22=\"\",\"\",VLOOKUP('③参加調査（個人種目　組手）'!$F22,出場資格者名簿!$D$3:$F$146,3,FALSE))","v":""},null,null,null,null,14,"女子組手",null,null,"女子組手",{"$f":"IF(P22=\"\",\"\",VLOOKUP('③参加調査（個人種目　組手）'!R22,出場資格者名簿!$D$3:$F$146,2,FALSE))","v":""},null,{"$f":"IF($P22=\"\",\"\",VLOOKUP('③参加調査（個人種目　組手）'!$R22,出場資格者名簿!$D$3:$F$146,3,FALSE))","v":""}]
[null,15,"男子組手",null,null,"男子組手",{"$f":"IF(D23=\"\",\"\",VLOOKUP('③参加調査（個人種目　組手）'!F23,出場資格者名簿!$D$3:$F$146,2,FALSE))","v":""},null,{"$f":"IF($D23=\"\",\"\",VLOOKUP('③参加調査（個人種目　組手）'!$F23,出場資格者名簿!$D$3:$F$146,3,FALSE))","v":""},null,null,null,null,15,"女子組手",null,null,"女子組手",{"$f":"IF(P23=\"\",\"\",VLOOKUP('③参加調査（個人種目　組手）'!R23,出場資格者名簿!$D$3:$F$146,2,FALSE))","v":""},null,{"$f":"IF($P23=\"\",\"\",VLOOKUP('③参加調査（個人種目　組手）'!$R23,出場資格者名簿!$D$3:$F$146,3,FALSE))","v":""}]
[null,16,"男子組手",null,null,"男子組手",{"$f":"IF(D24=\"\",\"\",VLOOKUP('③参加調査（個人種目　組手）'!F24,出場資格者名簿!$D$3:$F$146,2,FALSE))","v":""},null,{"$f":"IF($D24=\"\",\"\",VLOOKUP('③参加調査（個人種目　組手）'!$F24,出場資格者名簿!$D$3:$F$146,3,FALSE))","v":""},null,null,null,null,16,"女子組手",null,null,"女子組手",{"$f":"IF(P24=\"\",\"\",VLOOKUP('③参加調査（個人種目　組手）'!R24,出場資格者名簿!$D$3:$F$146,2,FALSE))","v":""},null,{"$f":"IF($P24=\"\",\"\",VLOOKUP('③参加調査（個人種目　組手）'!$R24,出場資格者名簿!$D$3:$F$146,3,FALSE))","v":""}]
[null,17,"男子組手",null,null,"男子組手",{"$f":"IF(D25=\"\",\"\",VLOOKUP('③参加調査（個人種目　組手）'!F25,出場資格者名簿!$D$3:$F$146,2,FALSE))","v":""},null,{"$f":"IF($D25=\"\",\"\",VLOOKUP('③参加調査（個人種目　組手）'!$F25,出場資格者名簿!$D$3:$F$146,3,FALSE))","v":""},null,null,null,null,17,"女子組手",null,null,"女子組手",{"$f":"IF(P25=\"\",\"\",VLOOKUP('③参加調査（個人種目　組手）'!R25,出場資格者名簿!$D$3:$F$146,2,FALSE))","v":""},null,{"$f":"IF($P25=\"\",\"\",VLOOKUP('③参加調査（個人種目　組手）'!$R25,出場資格者名簿!$D$3:$F$146,3,FALSE))","v":""}]
[null,18,"男子組手",null,null,"男子組手",{"$f":"IF(D26=\"\",\"\",VLOOKUP('③参加調査（個人種目　組手）'!F26,出場資格者名簿!$D$3:$F$146,2,FALSE))","v":""},null,{"$f":"IF($D26=\"\",\"\",VLOOKUP('③参加調査（個人種目　組手）'!$F26,出場資格者名簿!$D$3:$F$146,3,FALSE))","v":""},null,null,null,null,18,"女子組手",null,null,"女子組手",{"$f":"IF(P26=\"\",\"\",VLOOKUP('③参加調査（個人種目　組手）'!R26,出場資格者名簿!$D$3:$F$146,2,FALSE))","v":""},null,{"$f":"IF($P26=\"\",\"\",VLOOKUP('③参加調査（個人種目　組手）'!$R26,出場資格者名簿!$D$3:$F$146,3,FALSE))","v":""}]
[null,19,"男子組手",null,null,"男子組手",{"$f":"IF(D27=\"\",\"\",VLOOKUP('③参加調査（個人種目　組手）'!F27,出場資格者名簿!$D$3:$F$146,2,FALSE))","v":""},null,{"$f":"IF($D27=\"\",\"\",VLOOKUP('③参加調査（個人種目　組手）'!$F27,出場資格者名簿!$D$3:$F$146,3,FALSE))","v":""},null,null,null,null,19,"女子組手",null,null,"女子組手",{"$f":"IF(P27=\"\",\"\",VLOOKUP('③参加調査（個人種目　組手）'!R27,出場資格者名簿!$D$3:$F$146,2,FALSE))","v":""},null,{"$f":"IF($P27=\"\",\"\",VLOOKUP('③参加調査（個人種目　組手）'!$R27,出場資格者名簿!$D$3:$F$146,3,FALSE))","v":""}]
[null,20,"男子組手",null,null,"男子組手",{"$f":"IF(D28=\"\",\"\",VLOOKUP('③参加調査（個人種目　組手）'!F28,出場資格者名簿!$D$3:$F$146,2,FALSE))","v":""},null,{"$f":"IF($D28=\"\",\"\",VLOOKUP('③参加調査（個人種目　組手）'!$F28,出場資格者名簿!$D$3:$F$146,3,FALSE))","v":""},null,null,null,null,20,"女子組手",null,null,"女子組手",{"$f":"IF(P28=\"\",\"\",VLOOKUP('③参加調査（個人種目　組手）'!R28,出場資格者名簿!$D$3:$F$146,2,FALSE))","v":""},null,{"$f":"IF($P28=\"\",\"\",VLOOKUP('③参加調査（個人種目　組手）'!$R28,出場資格者名簿!$D$3:$F$146,3,FALSE))","v":""}]
[null,21,"男子組手",null,null,"男子組手",{"$f":"IF(D29=\"\",\"\",VLOOKUP('③参加調査（個人種目　組手）'!F29,出場資格者名簿!$D$3:$F$146,2,FALSE))","v":""},null,{"$f":"IF($D29=\"\",\"\",VLOOKUP('③参加調査（個人種目　組手）'!$F29,出場資格者名簿!$D$3:$F$146,3,FALSE))","v":""},null,null,null,null,21,"女子組手",null,null,"女子組手",{"$f":"IF(P29=\"\",\"\",VLOOKUP('③参加調査（個人種目　組手）'!R29,出場資格者名簿!$D$3:$F$146,2,FALSE))","v":""},null,{"$f":"IF($P29=\"\",\"\",VLOOKUP('③参加調査（個人種目　組手）'!$R29,出場資格者名簿!$D$3:$F$146,3,FALSE))","v":""}]
[null,22,"男子組手",null,null,"男子組手",{"$f":"IF(D30=\"\",\"\",VLOOKUP('③参加調査（個人種目　組手）'!F30,出場資格者名簿!$D$3:$F$146,2,FALSE))","v":""},null,{"$f":"IF($D30=\"\",\"\",VLOOKUP('③参加調査（個人種目　組手）'!$F30,出場資格者名簿!$D$3:$F$146,3,FALSE))","v":""},null,null,null,null,22,"女子組手",null,null,"女子組手",{"$f":"IF(P30=\"\",\"\",VLOOKUP('③参加調査（個人種目　組手）'!R30,出場資格者名簿!$D$3:$F$146,2,FALSE))","v":""},null,{"$f":"IF($P30=\"\",\"\",VLOOKUP('③参加調査（個人種目　組手）'!$R30,出場資格者名簿!$D$3:$F$146,3,FALSE))","v":""}]
[null,23,"男子組手",null,null,"男子組手",{"$f":"IF(D31=\"\",\"\",VLOOKUP('③参加調査（個人種目　組手）'!F31,出場資格者名簿!$D$3:$F$146,2,FALSE))","v":""},null,{"$f":"IF($D31=\"\",\"\",VLOOKUP('③参加調査（個人種目　組手）'!$F31,出場資格者名簿!$D$3:$F$146,3,FALSE))","v":""},null,null,null,null,23,"女子組手",null,null,"女子組手",{"$f":"IF(P31=\"\",\"\",VLOOKUP('③参加調査（個人種目　組手）'!R31,出場資格者名簿!$D$3:$F$146,2,FALSE))","v":""},null,{"$f":"IF($P31=\"\",\"\",VLOOKUP('③参加調査（個人種目　組手）'!$R31,出場資格者名簿!$D$3:$F$146,3,FALSE))","v":""}]
[null,24,"男子組手",null,null,"男子組手",{"$f":"IF(D32=\"\",\"\",VLOOKUP('③参加調査（個人種目　組手）'!F32,出場資格者名簿!$D$3:$F$146,2,FALSE))","v":""},null,{"$f":"IF($D32=\"\",\"\",VLOOKUP('③参加調査（個人種目　組手）'!$F32,出場資格者名簿!$D$3:$F$146,3,FALSE))","v":""},null,null,null,null,24,"女子組手",null,null,"女子組手",{"$f":"IF(P32=\"\",\"\",VLOOKUP('③参加調査（個人種目　組手）'!R32,出場資格者名簿!$D$3:$F$146,2,FALSE))","v":""},null,{"$f":"IF($P32=\"\",\"\",VLOOKUP('③参加調査（個人種目　組手）'!$R32,出場資格者名簿!$D$3:$F$146,3,FALSE))","v":""}]
[null,25,"男子組手",null,null,"男子組手",{"$f":"IF(D33=\"\",\"\",VLOOKUP('③参加調査（個人種目　組手）'!F33,出場資格者名簿!$D$3:$F$146,2,FALSE))","v":""},null,{"$f":"IF($D33=\"\",\"\",VLOOKUP('③参加調査（個人種目　組手）'!$F33,出場資格者名簿!$D$3:$F$146,3,FALSE))","v":""},null,null,null,null,25,"女子組手",null,null,"女子組手",{"$f":"IF(P33=\"\",\"\",VLOOKUP('③参加調査（個人種目　組手）'!R33,出場資格者名簿!$D$3:$F$146,2,FALSE))","v":""},null,{"$f":"IF($P33=\"\",\"\",VLOOKUP('③参加調査（個人種目　組手）'!$R33,出場資格者名簿!$D$3:$F$146,3,FALSE))","v":""}]
[null,26,"男子組手",null,null,"男子組手",{"$f":"IF(D34=\"\",\"\",VLOOKUP('③参加調査（個人種目　組手）'!F34,出場資格者名簿!$D$3:$F$146,2,FALSE))","v":""},null,{"$f":"IF($D34=\"\",\"\",VLOOKUP('③参加調査（個人種目　組手）'!$F34,出場資格者名簿!$D$3:$F$146,3,FALSE))","v":""},null,null,null,null,26,"女子組手",null,null,"女子組手",{"$f":"IF(P34=\"\",\"\",VLOOKUP('③参加調査（個人種目　組手）'!R34,出場資格者名簿!$D$3:$F$146,2,FALSE))","v":""},null,{"$f":"IF($P34=\"\",\"\",VLOOKUP('③参加調査（個人種目　組手）'!$R34,出場資格者名簿!$D$3:$F$146,3,FALSE))","v":""}]
[null,27,"男子組手",null,null,"男子組手",{"$f":"IF(D35=\"\",\"\",VLOOKUP('③参加調査（個人種目　組手）'!F35,出場資格者名簿!$D$3:$F$146,2,FALSE))","v":""},null,{"$f":"IF($D35=\"\",\"\",VLOOKUP('③参加調査（個人種目　組手）'!$F35,出場資格者名簿!$D$3:$F$146,3,FALSE))","v":""},null,null,null,null,27,"女子組手",null,null,"女子組手",{"$f":"IF(P35=\"\",\"\",VLOOKUP('③参加調査（個人種目　組手）'!R35,出場資格者名簿!$D$3:$F$146,2,FALSE))","v":""},null,{"$f":"IF($P35=\"\",\"\",VLOOKUP('③参加調査（個人種目　組手）'!$R35,出場資格者名簿!$D$3:$F$146,3,FALSE))","v":""}]
[null,28,"男子組手",null,null,"男子組手",{"$f":"IF(D36=\"\",\"\",VLOOKUP('③参加調査（個人種目　組手）'!F36,出場資格者名簿!$D$3:$F$146,2,FALSE))","v":""},null,{"$f":"IF($D36=\"\",\"\",VLOOKUP('③参加調査（個人種目　組手）'!$F36,出場資格者名簿!$D$3:$F$146,3,FALSE))","v":""},null,null,null,null,28,"女子組手",null,null,"女子組手",{"$f":"IF(P36=\"\",\"\",VLOOKUP('③参加調査（個人種目　組手）'!R36,出場資格者名簿!$D$3:$F$146,2,FALSE))","v":""},null,{"$f":"IF($P36=\"\",\"\",VLOOKUP('③参加調査（個人種目　組手）'!$R36,出場資格者名簿!$D$3:$F$146,3,FALSE))","v":""}]
[null,29,"男子組手",null,null,"男子組手",{"$f":"IF(D37=\"\",\"\",VLOOKUP('③参加調査（個人種目　組手）'!F37,出場資格者名簿!$D$3:$F$146,2,FALSE))","v":""},null,{"$f":"IF($D37=\"\",\"\",VLOOKUP('③参加調査（個人種目　組手）'!$F37,出場資格者名簿!$D$3:$F$146,3,FALSE))","v":""},null,null,null,null,29,"女子組手",null,null,"女子組手",{"$f":"IF(P37=\"\",\"\",VLOOKUP('③参加調査（個人種目　組手）'!R37,出場資格者名簿!$D$3:$F$146,2,FALSE))","v":""},null,{"$f":"IF($P37=\"\",\"\",VLOOKUP('③参加調査（個人種目　組手）'!$R37,出場資格者名簿!$D$3:$F$146,3,FALSE))","v":""}]
[null,30,"男子組手",null,null,"男子組手",{"$f":"IF(D38=\"\",\"\",VLOOKUP('③参加調査（個人種目　組手）'!F38,出場資格者名簿!$D$3:$F$146,2,FALSE))","v":""},null,{"$f":"IF($D38=\"\",\"\",VLOOKUP('③参加調査（個人種目　組手）'!$F38,出場資格者名簿!$D$3:$F$146,3,FALSE))","v":""},null,null,null,null,30,"女子組手",null,null,"女子組手",{"$f":"IF(P38=\"\",\"\",VLOOKUP('③参加調査（個人種目　組手）'!R38,出場資格者名簿!$D$3:$F$146,2,FALSE))","v":""},null,{"$f":"IF($P38=\"\",\"\",VLOOKUP('③参加調査（個人種目　組手）'!$R38,出場資格者名簿!$D$3:$F$146,3,FALSE))","v":""}]
[null,31,"男子組手",null,null,"男子組手",{"$f":"IF(D39=\"\",\"\",VLOOKUP('③参加調査（個人種目　組手）'!F39,出場資格者名簿!$D$3:$F$146,2,FALSE))","v":""},null,{"$f":"IF($D39=\"\",\"\",VLOOKUP('③参加調査（個人種目　組手）'!$F39,出場資格者名簿!$D$3:$F$146,3,FALSE))","v":""},null,null,null,null,31,"女子組手",null,null,"女子組手",{"$f":"IF(P39=\"\",\"\",VLOOKUP('③参加調査（個人種目　組手）'!R39,出場資格者名簿!$D$3:$F$146,2,FALSE))","v":""},null,{"$f":"IF($P39=\"\",\"\",VLOOKUP('③参加調査（個人種目　組手）'!$R39,出場資格者名簿!$D$3:$F$146,3,FALSE))","v":""}]
[null,32,"男子組手",null,null,"男子組手",{"$f":"IF(D40=\"\",\"\",VLOOKUP('③参加調査（個人種目　組手）'!F40,出場資格者名簿!$D$3:$F$146,2,FALSE))","v":""},null,{"$f":"IF($D40=\"\",\"\",VLOOKUP('③参加調査（個人種目　組手）'!$F40,出場資格者名簿!$D$3:$F$146,3,FALSE))","v":""},null,null,null,null,32,"女子組手",null,null,"女子組手",{"$f":"IF(P40=\"\",\"\",VLOOKUP('③参加調査（個人種目　組手）'!R40,出場資格者名簿!$D$3:$F$146,2,FALSE))","v":""},null,{"$f":"IF($P40=\"\",\"\",VLOOKUP('③参加調査（個人種目　組手）'!$R40,出場資格者名簿!$D$3:$F$146,3,FALSE))","v":""}]
[null,33,"男子組手",null,null,"男子組手",{"$f":"IF(D41=\"\",\"\",VLOOKUP('③参加調査（個人種目　組手）'!F41,出場資格者名簿!$D$3:$F$146,2,FALSE))","v":""},null,{"$f":"IF($D41=\"\",\"\",VLOOKUP('③参加調査（個人種目　組手）'!$F41,出場資格者名簿!$D$3:$F$146,3,FALSE))","v":""},null,null,null,null,33,"女子組手",null,null,"女子組手",{"$f":"IF(P41=\"\",\"\",VLOOKUP('③参加調査（個人種目　組手）'!R41,出場資格者名簿!$D$3:$F$146,2,FALSE))","v":""},null,{"$f":"IF($P41=\"\",\"\",VLOOKUP('③参加調査（個人種目　組手）'!$R41,出場資格者名簿!$D$3:$F$146,3,FALSE))","v":""}]
[null,34,"男子組手",null,null,"男子組手",{"$f":"IF(D42=\"\",\"\",VLOOKUP('③参加調査（個人種目　組手）'!F42,出場資格者名簿!$D$3:$F$146,2,FALSE))","v":""},null,{"$f":"IF($D42=\"\",\"\",VLOOKUP('③参加調査（個人種目　組手）'!$F42,出場資格者名簿!$D$3:$F$146,3,FALSE))","v":""},null,null,null,null,34,"女子組手",null,null,"女子組手",{"$f":"IF(P42=\"\",\"\",VLOOKUP('③参加調査（個人種目　組手）'!R42,出場資格者名簿!$D$3:$F$146,2,FALSE))","v":""},null,{"$f":"IF($P42=\"\",\"\",VLOOKUP('③参加調査（個人種目　組手）'!$R42,出場資格者名簿!$D$3:$F$146,3,FALSE))","v":""}]
[null,35,"男子組手",null,null,"男子組手",{"$f":"IF(D43=\"\",\"\",VLOOKUP('③参加調査（個人種目　組手）'!F43,出場資格者名簿!$D$3:$F$146,2,FALSE))","v":""},null,{"$f":"IF($D43=\"\",\"\",VLOOKUP('③参加調査（個人種目　組手）'!$F43,出場資格者名簿!$D$3:$F$146,3,FALSE))","v":""},null,null,null,null,35,"女子組手",null,null,"女子組手",{"$f":"IF(P43=\"\",\"\",VLOOKUP('③参加調査（個人種目　組手）'!R43,出場資格者名簿!$D$3:$F$146,2,FALSE))","v":""},null,{"$f":"IF($P43=\"\",\"\",VLOOKUP('③参加調査（個人種目　組手）'!$R43,出場資格者名簿!$D$3:$F$146,3,FALSE))","v":""}]
[null,36,"男子組手",null,null,"男子組手",{"$f":"IF(D44=\"\",\"\",VLOOKUP('③参加調査（個人種目　組手）'!F44,出場資格者名簿!$D$3:$F$146,2,FALSE))","v":""},null,{"$f":"IF($D44=\"\",\"\",VLOOKUP('③参加調査（個人種目　組手）'!$F44,出場資格者名簿!$D$3:$F$146,3,FALSE))","v":""},null,null,null,null,36,"女子組手",null,null,"女子組手",{"$f":"IF(P44=\"\",\"\",VLOOKUP('③参加調査（個人種目　組手）'!R44,出場資格者名簿!$D$3:$F$146,2,FALSE))","v":""},null,{"$f":"IF($P44=\"\",\"\",VLOOKUP('③参加調査（個人種目　組手）'!$R44,出場資格者名簿!$D$3:$F$146,3,FALSE))","v":""}]
[]
[]
[]
[]
[]
[]
[]
[]
[]
[]
[]
[]
[]
[null,null,null,null,null,null,null,null,"1年",1,null,"2段",null,"北海道",null,null,null,null,null,null,1,null,null,"2段"]
[null,null,null,null,null,null,null,null,"2年",2,null,"初段",null,"東北",null,null,null,null,null,null,2,null,null,"初段"]
[null,null,null,null,null,null,null,null,"3年",3,null,"1級",null,"関東",null,null,null,null,null,null,3,null,null,"1級"]
[null,null,null,null,null,null,null,null,"4年",4,null,"2級",null,"東海",null,null,null,null,null,null,4,null,null,"2級"]
[null,null,null,null,null,null,null,null,"5年",5,null,"3級",null,"北信越",null,null,null,null,null,null,5,null,null,"3級"]
[null,null,null,null,null,null,null,null,"6年",6,null,"4級",null,"近畿",null,null,null,null,null,null,6,null,null,"4級"]
[null,null,null,null,null,null,null,null,null,null,null,"5級",null,"中国",null,null,null,null,null,null,null,null,null,"5級"]
[null,null,null,null,null,null,null,null,null,null,null,"6級",null,"四国",null,null,null,null,null,null,null,null,null,"6級"]
[null,null,null,null,null,null,null,null,null,null,null,"7級",null,"九州",null,null,null,null,null,null,null,null,null,"7級"]
[null,null,null,null,null,null,null,null,null,null,null,"8級",null,null,null,null,null,null,null,null,null,null,null,"8級"]
[null,null,null,null,null,null,null,null,null,null,null,"9級",null,null,null,null,null,null,null,null,null,null,null,"9級"]

{"sheet":"④参加申込書（団体組手）","index":4,"n_rows":29,"n_cols":15,"rows_kept":29,"cut":false,"hidden":false,"merged":[[0,1,0,14],[1,1,1,14],[6,9,6,14],[7,2,7,3],[7,10,7,11],[6,1,6,6],[3,1,3,2],[13,2,13,3],[11,2,11,3],[11,10,11,11],[12,2,12,3],[12,10,12,11],[13,10,13,11],[10,10,10,11],[9,10,9,11],[9,2,9,3],[8,2,8,3],[8,10,8,11],[10,2,10,3]]}
[]
[null,"※熊本県少年少女大会各学年優勝者で編成する"]
[]
[null,{"$f":"'①個人種目参加調査・団体組手申込（表紙）'!J4","v":"熊本"},null,"県"]
[]
[]
[null,"男子団体組手",null,null,null,null,null,null,null,"女子団体組手"]
[null,"学年","選手氏名",null,"フリガナ","全空連会員番号","公認\n段級",null,null,null,"選手氏名",null,"フリガナ","全空連会員番号","公認\n段級"]
[null,"1年",null,null,null,null,null,null,null,"1年"]
[null,"2年",null,null,null,null,null,null,null,"2年"]
[null,"3年",null,null,null,null,null,null,null,"3年"]
[null,"4年",null,null,null,null,null,null,null,"4年"]
[null,"5年",null,null,null,null,null,null,null,"5年"]
[null,"6年",null,null,null,null,null,null,null,"6年"]
[]
[]
[]
[]
[null,null,null,null,null,null,"2段"]
[null,null,null,null,1,null,"初段"]
[null,null,null,null,2,null,"1級"]
[null,null,null,null,3,null,"2級"]
[null,null,null,null,4,null,"3級"]
[null,null,null,null,5,null,"4級"]
[null,null,null,null,6,null,"5級"]
[null,null,null,null,null,null,"6級"]
[null,null,null,null,null,null,"7級"]
[null,null,null,null,null,null,"8級"]
[null,null,null,null,null,null,"9級"]

{"sheet":"⑤参加申込書（団体形）","index":5,"n_rows":29,"n_cols":15,"rows_kept":29,"cut":false,"hidden":false,"merged":[[11,2,11,3],[11,10,11,11],[12,2,12,3],[12,10,12,11],[13,2,13,3],[13,10,13,11],[8,2,8,3],[8,10,8,11],[9,2,9,3],[9,10,9,11],[10,2,10,3],[10,10,10,11],[7,2,7,3],[7,10,7,11],[0,1,0,14],[1,1,1,14],[3,1,3,2],[6,1,6,6],[6,9,6,14]]}
[]
[null,"※熊本県少年少女大会優勝チーム"]
[]
[]
[]
[]
[null,"男子団体形　道場名：（宇土修武館）",null,null,null,null,null,null,null,"女子団体形　道場名：（英道館）"]
[null,"学年","選手氏名",null,"フリガナ","全空連会員番号","公認\n段級",null,null,"学年","選手氏名",null,"フリガナ","全空連会員番号","公認\n段級"]
[]
[]
[]
[]
[]
[]
[]
[]
[]
[]
[null,null,null,null,null,null,"2段"]
[null,null,null,null,1,null,"初段"]
[null,null,null,null,2,null,"1級"]
[null,null,null,null,3,null,"2級"]
[null,null,null,null,4,null,"3級"]
[null,null,null,null,5,null,"4級"]
[null,null,null,null,6,null,"5級"]
[null,null,null,null,null,null,"6級"]
[null,null,null,null,null,null,"7級"]
[null,null,null,null,null,null,"8級"]
[null,null,null,null,null,null,"9級"]

{"sheet":"振込み証","index":6,"n_rows":22,"n_cols":14,"rows_kept":22,"cut":false,"hidden":false,"merged":[[0,0,1,32],[14,1,14,3],[10,1,10,3],[2,4,2,7],[4,1,4,3],[5,1,5,3],[6,1,6,3],[7,1,7,3],[8,1,8,3],[3,1,3,3],[13,1,13,3],[11,1,11,3],[12,1,12,3]]}
["参加申し込み（含む　振込み証）　提出締め切り　１１月９日（’土）必着"]
[]
[]
[null,null,null,null,"参加費：円","人数：人","小計：円",null,null,null,null,null,null,"※　振込み証（道場纏めて１枚）貼付欄"]
[null,"個人形",null,null,8000]
[null,"個人組手",null,null,8000]
[null,"団体形（１チーム当り）",null,null,20000]
[null,"団体組手（１人当たり）",null,null,5000]
[null,"総計"]
[]
[null,null,null,null,"派遣費：円","人数：人","小計"]
[null,"男子",null,null,2000]
[null,"女子",null,null,2000]
[null,"パーソナルコーチ登録費",null,null,2000]
[null,"総計"]
[]
[]
[null,"道場名　　　（　　　　　　　　　　　　　　）"]
[]
[null,"道場責任者名（　　　　　　　　　　　　　　）"]
[]
[null,"携帯電話番号（　　　　　　　　　　　　　　）"]